BEGIN:VCALENDAR
VERSION:2.0
PRODID:-//Step la Dance - ADTV Tanzschule - ECPv6.15.17.1//NONSGML v1.0//EN
CALSCALE:GREGORIAN
METHOD:PUBLISH
X-WR-CALNAME:Step la Dance - ADTV Tanzschule
X-ORIGINAL-URL:https://www.step-la-dance.de
X-WR-CALDESC:Veranstaltungen für Step la Dance - ADTV Tanzschule
REFRESH-INTERVAL;VALUE=DURATION:PT1H
X-Robots-Tag:noindex
X-PUBLISHED-TTL:PT1H
BEGIN:VTIMEZONE
TZID:Europe/Berlin
BEGIN:DAYLIGHT
TZOFFSETFROM:+0100
TZOFFSETTO:+0200
TZNAME:CEST
DTSTART:20200329T010000
END:DAYLIGHT
BEGIN:STANDARD
TZOFFSETFROM:+0200
TZOFFSETTO:+0100
TZNAME:CET
DTSTART:20201025T010000
END:STANDARD
BEGIN:DAYLIGHT
TZOFFSETFROM:+0100
TZOFFSETTO:+0200
TZNAME:CEST
DTSTART:20210328T010000
END:DAYLIGHT
BEGIN:STANDARD
TZOFFSETFROM:+0200
TZOFFSETTO:+0100
TZNAME:CET
DTSTART:20211031T010000
END:STANDARD
BEGIN:DAYLIGHT
TZOFFSETFROM:+0100
TZOFFSETTO:+0200
TZNAME:CEST
DTSTART:20220327T010000
END:DAYLIGHT
BEGIN:STANDARD
TZOFFSETFROM:+0200
TZOFFSETTO:+0100
TZNAME:CET
DTSTART:20221030T010000
END:STANDARD
END:VTIMEZONE
BEGIN:VEVENT
DTSTART;TZID=Europe/Berlin:20210126T153000
DTEND;TZID=Europe/Berlin:20210126T173000
DTSTAMP:20260422T141424
CREATED:20210122T144230Z
LAST-MODIFIED:20210122T170553Z
UID:9582-1611675000-1611682200@www.step-la-dance.de
SUMMARY:LIVE UNTERRICHT Kindertanz
DESCRIPTION:Liebe Kinder\, liebe Eltern\,\nwir vom Team Step la Dance haben uns Gedanken gemacht\, wie wir in dieser schwierigen Zeit noch besser mit euch in Kontakt bleiben können. Ab Dienstag\, den 26.01.2021\, möchten wir nicht nur Videos bereitstellen\, sondern einen Livestream bzw. Videokonferenz mit euch starten. Das bedeutet\, dass für jede Altersgruppe eine Zeit zur Verfügung steht. Die Kinder im Kindergartenalter starten um 15:30 Uhr\, danach die Kinder im Grundschulalter um 16:15 Uhr und zum Schluss die großen Kinder um 17:00 Uhr. Jede Einheit läuft 30 Minuten.\nAuf eurer Startseite im Kundencenter wird ein Livestream und ein virtueller Tanzraum (Videokonferenz)\, zur oben genannten Zeit\, sichtbar sein. Der wesentliche Unterschied ist\, dass im Livestream „nur“ das Video in Echtzeit zu euch übertragen wird und ihr die Möglichkeit habt\, euch im Chat zu beteiligen. Im virtuellen Tanzraum können wir euch zudem auch noch sehen. Es ist also ähnlich wie euch das eventuell von Zoom\, Whatsapp Videogruppenanrufen\, Mircosoft Teamssitzung oder Ähnlichen bekannt sein könnte.\nWir sind schon ganz gespannt darauf\, euch wiederzusehen (leider nicht wie gewohnt im gemeinsamen Tanzraum).\nWenn Ihr Fragen zum technischen Ablauf habt\, stehen wir euch selbstverständlich gern und jeder Zeit zur Verfügung.\nViele Grüße vom STEPLADANCE TEAM
URL:https://www.step-la-dance.de/veranstaltung/live-unterricht-kindertanz/
LOCATION:Kundencenter
CATEGORIES:Kindertanz,Livestream
ATTACH;FMTTYPE=image/jpeg:https://www.step-la-dance.de/wp-content/uploads/2021/01/2021-01-26-livestream-picture.jpg
ORGANIZER;CN="Step la Dance":MAILTO:info@step-la-dance.de
END:VEVENT
END:VCALENDAR